BEGIN:VCALENDAR
VERSION:2.0
PRODID:-//Trekking ed escursioni a Roma e dintorni
CALSCALE:GREGORIAN
METHOD:PUBLISH
X-WR-CALNAME:Trekking ed escursioni a Roma e dintorni
X-ORIGINAL-URL:https://passeggiateinmontagna.it/event/le-isole-del-mare-del-nord/
X-WR-CALDESC:Germania: Il fascino delle Isole del Mare del Nord
BEGIN:VEVENT
DTSTART:20180610T000000
DTEND:20180617T000000
SUMMARY:Germania: Il fascino delle Isole del Mare del Nord
DESCRIPTION:
LOCATION:Isola di Amrum - Germania
END:VEVENT
END:VCALENDAR
