BEGIN:VCALENDAR
VERSION:2.0
PRODID:-//Trekking ed escursioni a Roma e dintorni
CALSCALE:GREGORIAN
METHOD:PUBLISH
X-WR-CALNAME:Trekking ed escursioni a Roma e dintorni
X-ORIGINAL-URL:https://passeggiateinmontagna.it/event/nella-terra-dei-briganti-il-molise/
X-WR-CALDESC:Nella Terra dei Briganti: il Molise (4 giorni)
BEGIN:VEVENT
DTSTART:20210923T000000
DTEND:20210926T000000
SUMMARY:Nella Terra dei Briganti: il Molise (4 giorni)
DESCRIPTION:
LOCATION:Isernia
END:VEVENT
END:VCALENDAR
