BEGIN:VCALENDAR
VERSION:2.0
PRODID:-//Trekking ed escursioni a Roma e dintorni
CALSCALE:GREGORIAN
METHOD:PUBLISH
X-WR-CALNAME:Trekking ed escursioni a Roma e dintorni
X-ORIGINAL-URL:https://passeggiateinmontagna.it/event/pasqua-2023-matera-e-le-dolomiti-lucane-3-giorni/
X-WR-CALDESC:Pasqua: Matera e le Dolomiti Lucane (4 giorni)
BEGIN:VEVENT
DTSTART:20230408T000000
DTEND:20230411T000000
SUMMARY:Pasqua: Matera e le Dolomiti Lucane (4 giorni)
DESCRIPTION:
LOCATION:Matera 
END:VEVENT
END:VCALENDAR
